BEGIN:VCALENDAR
PRODID:NingEventWidget-v1
VERSION:2.0
METHOD:PUBLISH
BEGIN:VTIMEZONE
TZID:America/Dawson_Creek
X-LIC-LOCATION:America/Dawson_Creek
BEGIN:STANDARD
TZOFFSETFROM:-0700
TZOFFSETTO:-0700
TZNAME:MST
DTSTART:19700101T000000
END:STANDARD
END:VTIMEZONE
BEGIN:VEVENT
UID:3922581:Event:100122
DTSTAMP:20260420T020326Z
SUMMARY:Saturday Wujigong
DESCRIPTION:Time for Qi healing in our Group Practice.  \r\n\r\nMeet
 ing ID 733 4049 5402PW 941067\r\npaypal.me/catherinejburns\r\nVenmo @c
 atherinehealth\n\nFor more information visit https://www.medicalemeiqi
 gong.com/events/saturday-wujigong-316
DTSTART;TZID=America/Dawson_Creek:20260418T091500
DTEND;TZID=America/Dawson_Creek:20260418T103000
CATEGORIES:zoom, wujigong
LOCATION:us04web.zoom.us/j/73340495402?pwd=XgzIa60VpoowdzUavNCwr0iFufe
 WcC.1 https://us04web.zoom.us/j/73340495402?pwd=XgzIa60VpoowdzUavNCwr0
 iFufeWcC.1  https://us04web.zoom.us/j/73340495402?pwd=XgzIa60VpoowdzU
 avNCwr0iFufeWcC.1
WEBSITE:
URL:
CONTACT:650-281-5867
ORGANIZER;CN="Catherine Burns":https://www.medicalemeiqigong.com/profi
 le/catherineburns
ATTACH;FMTTYPE="image/jpeg":
ATTENDEE;ROLE=REQ-PARTICIPANT;PARTSTAT=ACCEPTED;RSVP=TRUE;CN="Catherin
 e Burns":https://www.medicalemeiqigong.com/profile/catherineburns
END:VEVENT
END:VCALENDAR
