BEGIN:VCALENDAR
PRODID:NingEventWidget-v1
VERSION:2.0
METHOD:PUBLISH
BEGIN:VTIMEZONE
TZID:America/Dawson_Creek
X-LIC-LOCATION:America/Dawson_Creek
BEGIN:STANDARD
TZOFFSETFROM:-0700
TZOFFSETTO:-0700
TZNAME:MST
DTSTART:19700101T000000
END:STANDARD
END:VTIMEZONE
BEGIN:VEVENT
UID:3922581:Event:100224
DTSTAMP:20260424T050802Z
SUMMARY:World Tai Chi and Qigong Day this Saturday
DESCRIPTION:And today is Earth day in the Earth time of Qigong!  \r\
 nMeeting ID 733 4049 5402PW 941067\r\npaypal.me/catherinejburnsVenmo @
 catherinehealth\r\n\n\nFor more information visit https://www.medicale
 meiqigong.com/events/world-tai-chi-and-qigong-day-this-saturday
DTSTART;TZID=America/Dawson_Creek:20260425T091500
DTEND;TZID=America/Dawson_Creek:20260425T103000
CATEGORIES:zoom, wujigong
LOCATION:https://us04web.zoom.us/j/73340495402?pwd=XgzIa60VpoowdzUavNC
 wr0iFufeWcC.1 https://us04web.zoom.us/j/73340495402?pwd=XgzIa60Vpoowdz
 UavNCwr0iFufeWcC.1  https://us04web.zoom.us/j/73340495402?pwd=XgzIa60
 VpoowdzUavNCwr0iFufeWcC.1
WEBSITE:
URL:
CONTACT:650-281-5867
ORGANIZER;CN="Catherine Burns":https://www.medicalemeiqigong.com/profi
 le/catherineburns
ATTACH;FMTTYPE="image/jpeg":
ATTENDEE;ROLE=REQ-PARTICIPANT;PARTSTAT=ACCEPTED;RSVP=TRUE;CN="Catherin
 e Burns":https://www.medicalemeiqigong.com/profile/catherineburns
END:VEVENT
END:VCALENDAR
